BEGIN:VCALENDAR
VERSION:2.0
PRODID:DPCALENDAR
CALSCALE:GREGORIAN
BEGIN:VTIMEZONE
TZID:Europe/Madrid
BEGIN:STANDARD
DTSTART:20251026T010000
TZOFFSETFROM:+0200
TZOFFSETTO:+0100
TZNAME:CET
END:STANDARD
BEGIN:STANDARD
DTSTART:20261025T010000
TZOFFSETFROM:+0200
TZOFFSETTO:+0100
TZNAME:CET
END:STANDARD
BEGIN:DAYLIGHT
DTSTART:20260329T010000
TZOFFSETFROM:+0100
TZOFFSETTO:+0200
TZNAME:CEST
END:DAYLIGHT
END:VTIMEZONE
X-WR-TIMEZONE:Europe/Madrid
BEGIN:VEVENT
DTSTART;TZID=Europe/Madrid:20260314T193000
DTEND;TZID=Europe/Madrid:20260314T203000
UID:10E83D2C-B83E-428F-A13B-234AA701E050
SUMMARY:El poder narrativo de la luz y la sombra
CREATED:20260302T185031Z
DTSTAMP:20260302T185031Z
URL:https://www.mahulalarica.net/eventos-en-mula/el-poder-narrativo-de-la-luz-y-la-sombra
DESCRIPTION:\NAlicia Rico Forte y Juan Carlos Martínez ‘Don’ dialogan sobre literatura y creatividad en Mula\NEl próximo sábado14 de marzo a las 19:30 horas, el Salón del Archivo Municipal de Mula —situado junto a la biblioteca— acogerá la charla «El poder narrativo de la luz y la sombra», un encuentro literario con los escritores murcianos Alicia Rico Forte y Juan Carlos Martínez ‘Don’.\NLa actividad está organizada por la Asociación Cultural La Comadreja, colectivo nacido en Mula con el objetivo de impulsar el teatro, la escritura y la danza como herramientas de expresión y crecimiento personal.\N\N\NDurante la charla, ambos autores explorarán cómo la dualidad entre lo luminoso y lo oscuro puede convertirse en el verdadero motor de una historia. Desde la herida íntima y el miedo psicológico hasta los dilemas éticos y existenciales de la ciencia ficción contemporánea, el encuentro abordará cómo el conflicto interno, las contradicciones y los secretos construyen personajes memorables y sostienen la tensión narrativa.\N\N\NAlicia Rico Forte, autora de obras como La sombra de un trato y El misterio de Mysra Corp., ha desarrollado una narrativa marcada por la introspección emocional y la exploración de los límites entre lo real y lo inquietante. Por su parte, Juan Carlos Martínez ‘Don’ se ha adentrado en la ciencia ficción reflexiva, indagando en los dilemas humanos, la ética y la tecnología desde una mirada psicológica y filosófica en su última novela La Piedad de Ceres.\N\N\NLa conversación estará especialmente dirigida a lectores y escritores interesados en profundizar en los mecanismos internos de la creación literaria, aunque se trata de una cita abierta a cualquier persona que desee acercarse a la literatura desde una perspectiva reflexiva y contemporánea.\N\N\NCon esta propuesta, La Comadreja continúa consolidando su apuesta por enriquecer la vida cultural del municipio, generando espacios de encuentro donde la palabra, la emoción y el pensamiento crítico dialogan con el público.\NLa entrada será libre hasta completar aforo.\N\N\NDatos del evento\NLugar: Museo de la Ciudad de Mula (antiguo Convento de San Francisco).\NFecha: sábado, 14 de marzo de 2026.\NHora: 19:30 horas.\N\N\NActividad: Charla literaria La luz y la sombra como motor narrativo.\NParticipan: Alicia Rico Forte y Juan Carlos Martínez Don.\NOrganiza: La Comadreja.\N
X-ALT-DESC;FMTTYPE=text/html:<div class="x14z9mp xat24cr x1lziwak x1vvkbs xtlvy1s x126k92a"><div dir="auto">Alicia Rico Forte y Juan Carlos Martínez ‘Don’ dialogan sobre literatura y creatividad en Mula</div><div dir="auto">El próximo sábado14 de marzo a las 19:30 horas, el Salón del Archivo Municipal de Mula —situado junto a la biblioteca— acogerá la charla «El poder narrativo de la luz y la sombra», un encuentro literario con los escritores murcianos Alicia Rico Forte y Juan Carlos Martínez ‘Don’.</div><div dir="auto">La actividad está organizada por la Asociación Cultural La Comadreja, colectivo nacido en Mula con el objetivo de impulsar el teatro, la escritura y la danza como herramientas de expresión y crecimiento personal.</div></div><div class="x14z9mp xat24cr x1lziwak x1vvkbs xtlvy1s x126k92a"><div dir="auto">Durante la charla, ambos autores explorarán cómo la dualidad entre lo luminoso y lo oscuro puede convertirse en el verdadero motor de una historia. Desde la herida íntima y el miedo psicológico hasta los dilemas éticos y existenciales de la ciencia ficción contemporánea, el encuentro abordará cómo el conflicto interno, las contradicciones y los secretos construyen personajes memorables y sostienen la tensión narrativa.</div></div><div class="x14z9mp xat24cr x1lziwak x1vvkbs xtlvy1s x126k92a"><div dir="auto">Alicia Rico Forte, autora de obras como La sombra de un trato y El misterio de Mysra Corp., ha desarrollado una narrativa marcada por la introspección emocional y la exploración de los límites entre lo real y lo inquietante. Por su parte, Juan Carlos Martínez ‘Don’ se ha adentrado en la ciencia ficción reflexiva, indagando en los dilemas humanos, la ética y la tecnología desde una mirada psicológica y filosófica en su última novela La Piedad de Ceres.</div></div><div class="x14z9mp xat24cr x1lziwak x1vvkbs xtlvy1s x126k92a"><div dir="auto">La conversación estará especialmente dirigida a lectores y escritores interesados en profundizar en los mecanismos internos de la creación literaria, aunque se trata de una cita abierta a cualquier persona que desee acercarse a la literatura desde una perspectiva reflexiva y contemporánea.</div></div><div class="x14z9mp xat24cr x1lziwak x1vvkbs xtlvy1s x126k92a"><div dir="auto">Con esta propuesta, La Comadreja continúa consolidando su apuesta por enriquecer la vida cultural del municipio, generando espacios de encuentro donde la palabra, la emoción y el pensamiento crítico dialogan con el público.</div><div dir="auto">La entrada será libre hasta completar aforo.</div></div><div class="x14z9mp xat24cr x1lziwak x1vvkbs xtlvy1s x126k92a"><div dir="auto">Datos del evento</div><div dir="auto">Lugar: Museo de la Ciudad de Mula (antiguo Convento de San Francisco).</div><div dir="auto">Fecha: sábado, 14 de marzo de 2026.</div><div dir="auto">Hora: 19:30 horas.</div></div><div class="x14z9mp xat24cr x1lziwak x1vvkbs xtlvy1s x126k92a"><div dir="auto">Actividad: Charla literaria La luz y la sombra como motor narrativo.</div><div dir="auto">Participan: Alicia Rico Forte y Juan Carlos Martínez Don.</div><div dir="auto">Organiza: La Comadreja.</div></div>
LAST-MODIFIED:20260302T185143Z
SEQUENCE:72
LOCATION:Calle Doña Elvira\, 30170 Mula\, Región de Murcia\, España
GEO:38.04081600;-1.48825010
X-LOCATION-DISPLAYNAME:Museo Ciudad de Mula
X-ACCESS:1
X-HITS:192
X-COLOR:3366cc
X-IMAGE-FULL:https://www.mahulalarica.net/images/Marzo2026/charla_de_libro.jpg
X-IMAGE-INTRO:https://www.mahulalarica.net/images/Marzo2026/charla_de_libro.webp
X-SHOW-END-TIME:1
END:VEVENT
END:VCALENDAR