BEGIN:VCALENDAR
VERSION:2.0
PRODID:DPCALENDAR
CALSCALE:GREGORIAN
BEGIN:VTIMEZONE
TZID:Europe/Madrid
BEGIN:STANDARD
DTSTART:20251026T010000
TZOFFSETFROM:+0200
TZOFFSETTO:+0100
TZNAME:CET
END:STANDARD
BEGIN:STANDARD
DTSTART:20261025T010000
TZOFFSETFROM:+0200
TZOFFSETTO:+0100
TZNAME:CET
END:STANDARD
BEGIN:DAYLIGHT
DTSTART:20260329T010000
TZOFFSETFROM:+0100
TZOFFSETTO:+0200
TZNAME:CEST
END:DAYLIGHT
END:VTIMEZONE
X-WR-TIMEZONE:Europe/Madrid
BEGIN:VEVENT
DTSTART;TZID=Europe/Madrid:20260313T180000
DTEND;TZID=Europe/Madrid:20260313T203000
UID:699F0CF3-92AA-4CFD-907D-A8B833946707
SUMMARY:Cuarto Memorial "Sergio Rivero"
CREATED:20260310T052648Z
DTSTAMP:20260310T052648Z
URL:https://www.mahulalarica.net/eventos-en-mula/cuarto-memorial-sergio-rivero
DESCRIPTION:El próximo viernes, 13 de marzo, a las 18 h y en el campo de fútbol del curtis, se celebrará el cuarto Memorial "Sergio Rivero", con el encuentro de fútbol entre las féminas del Muleño y el Real Murcia.
X-ALT-DESC;FMTTYPE=text/html:<p><span>El próximo viernes, 13 de marzo, a las 18 h y en el campo de fútbol del curtis, se celebrará el cuarto Memorial "Sergio Rivero", con el encuentro de fútbol entre las féminas del Muleño y el Real Murcia.</span></p>
LAST-MODIFIED:20260310T052648Z
SEQUENCE:0
LOCATION:Calle Camino del Curtís\, 30170 Mula\, Región de Murcia\, España
GEO:38.03975200;-1.48531030
X-LOCATION-DISPLAYNAME:Calle Camino del Curtís
X-ACCESS:1
X-HITS:83
X-COLOR:3366cc
X-IMAGE-FULL:https://www.mahulalarica.net/images/Marzo2026/menorial_iv.jpg
X-IMAGE-INTRO:https://www.mahulalarica.net/images/Marzo2026/menorial_iv.webp
X-SHOW-END-TIME:1
END:VEVENT
END:VCALENDAR