BEGIN:VCALENDAR
VERSION:2.0
PRODID:DPCALENDAR
CALSCALE:GREGORIAN
BEGIN:VTIMEZONE
TZID:Europe/Madrid
BEGIN:STANDARD
DTSTART:20251026T010000
TZOFFSETFROM:+0200
TZOFFSETTO:+0100
TZNAME:CET
END:STANDARD
BEGIN:STANDARD
DTSTART:20261025T010000
TZOFFSETFROM:+0200
TZOFFSETTO:+0100
TZNAME:CET
END:STANDARD
BEGIN:DAYLIGHT
DTSTART:20260329T010000
TZOFFSETFROM:+0100
TZOFFSETTO:+0200
TZNAME:CEST
END:DAYLIGHT
END:VTIMEZONE
X-WR-TIMEZONE:Europe/Madrid
BEGIN:VEVENT
DTSTART;TZID=Europe/Madrid:20260425T200000
DTEND;TZID=Europe/Madrid:20260425T210000
UID:8C02CDF7-4D3E-4E04-AD00-7AC7A55C574C
SUMMARY:Encuentro con la escritora Ángela Banzas, finalista del Premio Planeta 2025
CREATED:20260425T063734Z
DTSTAMP:20260425T063734Z
URL:https://www.mahulalarica.net/eventos-en-mula/encuentro-con-la-escritora-angela-banzas-finalista-del-premio-planeta-2025
DESCRIPTION:Encuentro con la escritora Ángela Banzas, finalista del Premio Planeta 2025
X-ALT-DESC;FMTTYPE=text/html:<p>Encuentro con la escritora Ángela Banzas, finalista del Premio Planeta 2025</p>
LAST-MODIFIED:20260425T063734Z
SEQUENCE:0
LOCATION:Calle Doña Elvira\, 30170 Mula\, Región de Murcia\, España
GEO:38.04081600;-1.48825010
X-LOCATION-DISPLAYNAME:Museo Ciudad de Mula
X-ACCESS:1
X-HITS:44
X-COLOR:3366cc
X-IMAGE-FULL:https://www.mahulalarica.net/images/ABRIL2026/Angela_Bazos.jpg
X-IMAGE-INTRO:https://www.mahulalarica.net/images/ABRIL2026/Angela_Bazos.webp
X-SHOW-END-TIME:1
END:VEVENT
END:VCALENDAR